BEGIN:VCALENDAR
VERSION:2.0
METHOD:PUBLISH
X-WR-CALNAME;VALUE=TEXT:
PRODID:-//Drupal iCal API//EN
BEGIN:VEVENT
UID:wfbb-event-1027
DTSTAMP:20240913T114147Z
DTSTART:20200617T080000Z
DTEND:20200617T090000Z
SUMMARY:UX-Knigge für die Usability-Akte@DMEA sparks
DESCRIPTION:In diesem Webinar geben wir einen Überblick über den nutzerzentrierten Produktentwicklungsprozess und dessen UX-Methoden und der Zertifizierung von Medizin-Software.
LOCATION:virtuell 00000 Microsoft Teams
URL:https://teams.microsoft.com/l/meetup-join/19%3ameeting_MjIwMTA0MjctNmNkYS00YTkwLTkwYWYtNjYzZDMwYmYzMWNl%40thread.v2/0?context=%7B%22Tid%22%3A%2269e58831-4089-48c6-b9ca-6a5636342a7b%22%2C%22Oid%22%3A%22163d833c-f4c7-47a1-b005-2931bd8fc6ac%22%7D
END:VEVENT
END:VCALENDAR
