BEGIN:VCALENDAR
VERSION:2.0
METHOD:PUBLISH
X-WR-CALNAME;VALUE=TEXT:
PRODID:-//Drupal iCal API//EN
BEGIN:VEVENT
UID:wfbb-event-1028
DTSTAMP:20240913T114147Z
DTSTART:20200618T113000Z
DTEND:20200618T123000Z
SUMMARY:VR/AR für die klinische Ausbildung@DMEA sparks
DESCRIPTION:Virtual und Augmented Reality ermöglicht es, anhand von Simulationen von klinischen Szenarien, Fertigkeiten und Techniken zu vermitteln und üben.
LOCATION:virtuell 00000 Microsoft Teams
URL:https://teams.microsoft.com/l/meetup-join/19%3ameeting_ZTc3MTIwZmMtZWY3YS00MDZkLTg2ZTYtYTNhY2NkYjRlMzM3%40thread.v2/0?context=%7B%22Tid%22%3A%2269e58831-4089-48c6-b9ca-6a5636342a7b%22%2C%22Oid%22%3A%229a4ccab2-a8e6-486b-902e-f96ea30db269%22%7D
END:VEVENT
END:VCALENDAR
