BEGIN:VCALENDAR
VERSION:2.0
METHOD:PUBLISH
X-WR-CALNAME;VALUE=TEXT:
PRODID:-//Drupal iCal API//EN
BEGIN:VEVENT
UID:wfbb-event-1029
DTSTAMP:20240913T114147Z
DTSTART:20200617T080000Z
DTEND:20200617T090000Z
SUMMARY:Digital excursion to the Charité@DMEA sparks
DESCRIPTION:Digitale Exkursion zur Charité - Universitätsmedizin Berlin. Dabei werden die Projekte MACCS und DACE der Charité vorgestellt. 
LOCATION:virtuell 00000 Microsoft Teams
URL:https://teams.microsoft.com/l/meetup-join/19%3ameeting_MjcyOGM2M2MtYzg2NC00YzY1LTg0YzQtMjNhYzI3OGE0Mzk5%40thread.v2/0?context=%7B%22Tid%22%3A%2269e58831-4089-48c6-b9ca-6a5636342a7b%22%2C%22Oid%22%3A%22a2f8cc07-b96b-4dd4-9e20-dd58b2d31a01%22%7D
END:VEVENT
END:VCALENDAR
