BEGIN:VCALENDAR
VERSION:2.0
METHOD:PUBLISH
X-WR-CALNAME;VALUE=TEXT:
PRODID:-//Drupal iCal API//EN
BEGIN:VEVENT
UID:wfbb-event-1030
DTSTAMP:20260115T085346Z
DTSTART:20200701T080000Z
DTEND:20200701T090000Z
SUMMARY:Fördermöglichkeiten im Rahmen des EU-Projektes Block.IS
DESCRIPTION:Das EU-Projekt Block.IS hat einen zweiten Förderaufruf für innovative KMUs &amp; Start-ups mit einer Förderung von bis zu 60.000 Euro gestartet. Erfahren Sie mehr über das Projekt und den Förderaufruf in unserem Online-Seminar.
LOCATION:MS Teams 00000 Online
URL:https://een-bb.de/termine/anmeldung/1-juli-2020-webinar-foerdermoeglichkeiten-im-rahmen-des-eu-projektes-blockis/4f3b7a95597eb1f14db1a09a3f4a0531.html
END:VEVENT
END:VCALENDAR
