BEGIN:VCALENDAR
VERSION:2.0
METHOD:PUBLISH
X-WR-CALNAME;VALUE=TEXT:
PRODID:-//Drupal iCal API//EN
BEGIN:VEVENT
UID:wfbb-event-1031
DTSTAMP:20240913T114147Z
DTSTART:20200617T133000Z
DTEND:20200617T143000Z
SUMMARY:An Insider&#039;s View@DMEA sparks
DESCRIPTION:In this interactive live session, we'll be discussing the perspectives of payers, healthcare providers, regulators, and the public on the adoption of digital health in Germany.
LOCATION:virtuell 00000 Microsoft Teams
URL:https://teams.microsoft.com/l/meetup-join/19%3ameeting_YWMzYTEzNjUtNDE2MS00YThlLTg3N2QtODE0NjgxNDI0Nzk4%40thread.v2/0?context=%7B%22Tid%22%3A%2269e58831-4089-48c6-b9ca-6a5636342a7b%22%2C%22Oid%22%3A%2293058e07-70d0-4786-adc3-9de1fe4ef92f%22%7D
END:VEVENT
END:VCALENDAR
