BEGIN:VCALENDAR
VERSION:2.0
METHOD:PUBLISH
X-WR-CALNAME;VALUE=TEXT:
PRODID:-//Drupal iCal API//EN
BEGIN:VEVENT
UID:wfbb-event-1059
DTSTAMP:20240913T114147Z
DTSTART:20200701T080000Z
DTEND:20200701T093000Z
SUMMARY:2. ERCI Online-Seminar: Condition Monitoring &amp; Predictive Maintenance
DESCRIPTION:In diesem ERCI -10-Online-Seminar lernen Sie innovative Lösungen kleiner und mittlerer Unternehmen für die Zustandsüberwachung und vorbeugende Instandhaltung von Schienenfahrzeugen und Bahninfrastruktur kennen.
LOCATION:MS Teams 00000 Online-Seminar
URL:
END:VEVENT
END:VCALENDAR
