BEGIN:VCALENDAR
VERSION:2.0
METHOD:PUBLISH
X-WR-CALNAME;VALUE=TEXT:
PRODID:-//Drupal iCal API//EN
BEGIN:VEVENT
UID:wfbb-event-1063
DTSTAMP:20240913T114147Z
DTSTART:20200624T140000Z
DTEND:20200624T153000Z
SUMMARY:Cybercrime in der Praxis
DESCRIPTION:Ein interaktives Webinar zur Cyber-Security, organisiert von it's BB, dem IT-Sicherheitsnetzwerk Berlin Brandenburg. 
LOCATION:virtuell 00000 Zoom
URL:https://insights.dentons.com/359/16625/landing-pages/rsvp-blank-german.asp
END:VEVENT
END:VCALENDAR
