BEGIN:VCALENDAR
VERSION:2.0
METHOD:PUBLISH
X-WR-CALNAME;VALUE=TEXT:
PRODID:-//Drupal iCal API//EN
BEGIN:VEVENT
UID:wfbb-event-1066
DTSTAMP:20240913T114147Z
DTSTART:20200630T073000Z
DTEND:20200630T100000Z
SUMMARY:Antragswerkstatt: KI als Treiber für volkswirtschaftlich relevante Ökosysteme
DESCRIPTION:Antragswerkstatt zum Innovationswettbewerb „Künstliche Intelligenz als Treiber für volkswirtschaftlich relevante Ökosysteme“ – Dritter Förderaufruf vom 12.05.2020.
LOCATION:virtuell 00000 MS Teams
URL:
END:VEVENT
END:VCALENDAR
