BEGIN:VCALENDAR
VERSION:2.0
METHOD:PUBLISH
X-WR-CALNAME;VALUE=TEXT:
PRODID:-//Drupal iCal API//EN
BEGIN:VEVENT
UID:wfbb-event-1109
DTSTAMP:20241118T145930Z
DTSTART:20200915T130000Z
DTEND:20200915T140000Z
SUMMARY:Exportförderung in der Energiebranche
DESCRIPTION:Die Energiebranche birgt große Chancen für deutsche Unternehmen – besonders in den internationalen Wachstumsmärkten. Erfahren Sie in diesem Online-Seminar, wie Sie diese Chancen nutzen können.
LOCATION:online 00000 virtuell
URL:https://www.cottbus.ihk.de/alle-veranstaltungen/10390/exportfoerderung-in-der-energiebranche-chancen-internationaler-maerkte-erfolgreich-nutzen.html
END:VEVENT
END:VCALENDAR
