BEGIN:VCALENDAR
VERSION:2.0
METHOD:PUBLISH
X-WR-CALNAME;VALUE=TEXT:
PRODID:-//Drupal iCal API//EN
BEGIN:VEVENT
UID:wfbb-event-1144
DTSTAMP:20241118T145932Z
DTSTART:20200901T070000Z
DTEND:20200901T093000Z
SUMMARY:H2-Forum: Nationale Wasserstoffstrategie
DESCRIPTION:Die Veranstaltung richtet sich an Fach- und Führungskräfte in kommunalen Unternehmen und der Industrie mit Berührungspunkten zur Erzeugung, dem Transport sowie der Verarbeitung des Energieträgers Wasserstoff. 
LOCATION:online 00000 GoToWebinar
URL:https://register.gotowebinar.com/register/6990065317529106447
END:VEVENT
END:VCALENDAR
