BEGIN:VCALENDAR
VERSION:2.0
METHOD:PUBLISH
X-WR-CALNAME;VALUE=TEXT:
PRODID:-//Drupal iCal API//EN
BEGIN:VEVENT
UID:wfbb-event-1178
DTSTAMP:20240913T114147Z
DTSTART:20200817T150000Z
DTEND:20200817T160000Z
SUMMARY:Town Hall Call „Soforthilfe Gewerbezuschuss“ und „Berlin Mezzanine“
DESCRIPTION:Die IHK und Berlin Partner bieten einen Townhall Call zu den Themen „Soforthilfe Gewerbemieten“ und „Berlin Mezzanine“ (3. Baustein Säule II der Startup-Hilfen) an.
LOCATION:virtuell 00000 Webex
URL:https://events.ihk-berlin.de/soforthilfegewerbemieten
END:VEVENT
END:VCALENDAR
