BEGIN:VCALENDAR
VERSION:2.0
METHOD:PUBLISH
X-WR-CALNAME;VALUE=TEXT:
PRODID:-//Drupal iCal API//EN
BEGIN:VEVENT
UID:wfbb-event-1197
DTSTAMP:20241118T145932Z
DTSTART:20200910T120000Z
DTEND:20200910T140000Z
SUMMARY:Kommunale Energiewende | Dialoge Brandenburg
DESCRIPTION:Die Energieagentur des Landes Brandenburg startet mit einer Auftaktveranstaltung in ein neues Austauschformat mit Kommunen rund um erneuerbare Energien.
LOCATION:virtuell 00000 online
URL:https://energie.wfbb.de/de/Aktuelles/Termine/Online-Auftaktveranstaltung-Kommunale-Energiewende-Dialoge-Brandenburg
END:VEVENT
END:VCALENDAR
