BEGIN:VCALENDAR
VERSION:2.0
METHOD:PUBLISH
X-WR-CALNAME;VALUE=TEXT:
PRODID:-//Drupal iCal API//EN
BEGIN:VEVENT
UID:wfbb-event-1305
DTSTAMP:20241118T145952Z
DTSTART:20201006T130000Z
DTEND:20201006T160000Z
SUMMARY:Photonics Days | Entrepreneurship in Quantum Technologies
DESCRIPTION:Das Online-Seminar gibt einen Überblick über aktuelle Trends und jüngste Entwicklungen auf dem Gebiet der Quantentechnologien mit dem Schwerpunkt Quantenkommunikation und findet im Rahmen der Photonics Days 2020 Berlin Brandenburg statt.
LOCATION:online
URL:https://photonics-days-berlin-brandenburg-2020.b2match.io/
END:VEVENT
END:VCALENDAR
