BEGIN:VCALENDAR
VERSION:2.0
METHOD:PUBLISH
X-WR-CALNAME;VALUE=TEXT:
PRODID:-//Drupal iCal API//EN
BEGIN:VEVENT
UID:wfbb-event-1306
DTSTAMP:20241118T145952Z
DTSTART:20201008T070000Z
DTEND:20201008T160000Z
SUMMARY:Photonics Days | Berlin Quantum Technology Symposium
DESCRIPTION:Das Symposium findet im Rahmen der Photonics Days 2020 Berlin Brandenburg statt und wird auf Englisch abgehalten. Die Teilnahme ist kostenlos.
LOCATION:online
URL:https://photonics-days-berlin-brandenburg-2020.b2match.io/
END:VEVENT
END:VCALENDAR
