BEGIN:VCALENDAR
VERSION:2.0
METHOD:PUBLISH
X-WR-CALNAME;VALUE=TEXT:
PRODID:-//Drupal iCal API//EN
BEGIN:VEVENT
UID:wfbb-event-1325
DTSTAMP:20241118T145932Z
DTSTART:20200925T120000Z
DTEND:20200925T130000Z
SUMMARY:Wasserstoffbetriebene Busse im ÖPNV
DESCRIPTION:Demnächst wird der nächste Förderaufruf der NOW veröffentlicht, diesmal für die Förderung von Wasserstoffbussen für den ÖPNV. In Vorbereitung dessen lädt die IHK Cottbus am 25.09. ein zu einem Onlineseminar.
LOCATION:virtuell 00000 online via Cisco Webex
URL:https://spilettgmbh.my.webex.com/mw3300/mywebex/default.do?service=1&amp;siteurl=spilettgmbh.my&amp;nomenu=true&amp;main_url=/mc3300/e.do%3Fsiteurl%3Dspilettgmbh.my%26AT%3DMI%26EventID%3D1080130097%26UID%3D0%26Host%3DQUhTSwAAAATeTrGoiPn51F_zBw5lAoqfTng-20Mmj7HANjUSw5wxKYeGlG4xtayPtkpgDc-K5h49Y3WoypWuqpKKIhqnw8Kb0%26RG%3D1%26FrameSet%3D2%26RGID%3Dr728b431799304e9aeb1002c3b832f99f
END:VEVENT
END:VCALENDAR
