BEGIN:VCALENDAR
VERSION:2.0
METHOD:PUBLISH
X-WR-CALNAME;VALUE=TEXT:
PRODID:-//Drupal iCal API//EN
BEGIN:VEVENT
UID:wfbb-event-1557
DTSTAMP:20240913T114147Z
DTSTART:20201110T090000Z
DTEND:20201110T103000Z
SUMMARY:Lean UX: Ein Workshop zum Usability Testing
DESCRIPTION:Im Rahmen der UUX Week 2020 gibt das Mittelstand 4.0-Kompetenzzentrum Usability einen Einblick in die Lean UX Methode und vermittelt Informationen zum Aufbau von Usability Tests.
LOCATION:online
URL:
END:VEVENT
END:VCALENDAR
