BEGIN:VCALENDAR
VERSION:2.0
METHOD:PUBLISH
X-WR-CALNAME;VALUE=TEXT:
PRODID:-//Drupal iCal API//EN
BEGIN:VEVENT
UID:wfbb-event-1570
DTSTAMP:20241118T145932Z
DTSTART:20201110T080000Z
DTEND:20201110T103000Z
SUMMARY:SweDeHeat Vol. II – Auf dem Weg in eine CO2-freie/arme Fernwärmeversorgung
DESCRIPTION:Das Online-Innovationsseminar „SweDeHeat Vol. II – Auf dem Weg in eine CO2-freie/arme Fernwärmeversorgung“ am 10. November 2020 bietet die Möglichkeit für einen grenzüberschreitenden Austausch zu Chancen und Herausforderungen der Wärmewende.
LOCATION:online
URL:https://www.wfbb.de/de/Aktuelles/Termine/SweDeHeat-Vol-II-%E2%80%93-Auf-dem-Weg-in-eine-CO2-freiearme-Fernw%C3%A4rmeversorgung
END:VEVENT
END:VCALENDAR
