BEGIN:VCALENDAR
VERSION:2.0
METHOD:PUBLISH
X-WR-CALNAME;VALUE=TEXT:
PRODID:-//Drupal iCal API//EN
BEGIN:VEVENT
UID:wfbb-event-1572
DTSTAMP:20241118T145934Z
DTSTART:20201029T123000Z
DTEND:20201029T153000Z
SUMMARY:FCH JU: Moving Electrolyseurs into the Gigawatt Scale
DESCRIPTION:Das Fuel Cell and Hydrogen Joint Undertaking (FCH JU) organisiert ein Web-Seminar, wo der Frage nachgegangen werden soll, wie die Elektrolyseur-Technologie im nächsten Jahrzehnt auf eine GW-Skala gebracht werden kann.
LOCATION:online
URL:
END:VEVENT
END:VCALENDAR
