BEGIN:VCALENDAR
VERSION:2.0
METHOD:PUBLISH
X-WR-CALNAME;VALUE=TEXT:
PRODID:-//Drupal iCal API//EN
BEGIN:VEVENT
UID:wfbb-event-1582
DTSTAMP:20240913T114147Z
DTSTART:20201029T160000Z
DTEND:20201029T183000Z
SUMMARY:Berlin meets USA / Conquering the American market with smart city solutions
DESCRIPTION:Der SIBB führt im Rahmen des Projektes Point Out ein Online-Event zum Thema "Erweiterung und Einführung von Smart Cities-Technologien auf dem transatlantischen Markt in der Welt nach COVID-19" durch.
LOCATION:online
URL:https://www.eventbrite.de/e/berlin-meets-usa-conquering-the-american-market-with-smart-city-solutions-tickets-117258526409
END:VEVENT
END:VCALENDAR
