BEGIN:VCALENDAR
VERSION:2.0
METHOD:PUBLISH
X-WR-CALNAME;VALUE=TEXT:
PRODID:-//Drupal iCal API//EN
BEGIN:VEVENT
UID:wfbb-event-1587
DTSTAMP:20241118T145925Z
DTSTART:20201123T130000Z
DTEND:20201123T153000Z
SUMMARY:Wie wird Wasserstoff grün? | Lokale Energie trifft Cluster Energietechnik
DESCRIPTION:Interaktiver digitaler Expertenkreis mit Impulsen und Diskussion zu den Potentialen von grünem und regionalem Wasserstoff für lokale Energiekonzepte. Akteure aus dem Cluster Energietechnik treffen auf die Partner der Plattform Lokale Energie.

 
LOCATION:online
URL:
END:VEVENT
END:VCALENDAR
