BEGIN:VCALENDAR
VERSION:2.0
METHOD:PUBLISH
X-WR-CALNAME;VALUE=TEXT:
PRODID:-//Drupal iCal API//EN
BEGIN:VEVENT
UID:wfbb-event-1592
DTSTAMP:20241118T145952Z
DTSTART:20201111T120000Z
DTEND:20201111T140000Z
SUMMARY:Digitalisierung: Smarte Lösungen für die Wasserwirtschaft
DESCRIPTION:Der 5. CIO-Arbeitskreis Wassertechnologien steht unter dem Motto: „Digitalisierung: smarte Lösungen für die Wasserwirtschaft“
LOCATION:online
URL:https://forms.office.com/Pages/ResponsePage.aspx?id=wpLgFMielEKcCFukZHlqyBapPVDUWD1LhFBIgSNms7JUQVpROFFON1o5NUJXSDhHVFk1UUNQV1I1UiQlQCN0PWcu
END:VEVENT
END:VCALENDAR
