BEGIN:VCALENDAR
VERSION:2.0
METHOD:PUBLISH
X-WR-CALNAME;VALUE=TEXT:
PRODID:-//Drupal iCal API//EN
BEGIN:VEVENT
UID:wfbb-event-1636
DTSTAMP:20241118T145925Z
DTSTART:20201119T090000Z
DTEND:20201119T103000Z
SUMMARY:Wie kann der Innovationsfonds innovative Cleantech Small-Scale-Projekte fördern?
DESCRIPTION:Im Vorfeld des bevorstehenden Aufrufs für kleine Projekte des Innovationsfonds organisiert die Europäische Kommission eine virtuelle Konferenz, um zu erörtern, wie kleine innovative Clean-Tech-Projekte auf den Markt gebracht werden können.
LOCATION:online
URL:https://ec.europa.eu/clima/events/small-beautiful-how-can-innovation-fund-foster-innovative-clean-tech-small-scale-projects_en
END:VEVENT
END:VCALENDAR
