BEGIN:VCALENDAR
VERSION:2.0
METHOD:PUBLISH
X-WR-CALNAME;VALUE=TEXT:
PRODID:-//Drupal iCal API//EN
BEGIN:VEVENT
UID:wfbb-event-1651
DTSTAMP:20240913T114147Z
DTSTART:20201208T083000Z
DTEND:20201208T110000Z
SUMMARY:Künstliche Intelligenz in der Energiewirtschaft
DESCRIPTION:Der Bedarf an digitalen Lösungen und ihr komplexer Einsatz steigt. Daher gilt es, den weiteren Weg für KI in der Energiewirtschaft zu ebnen und die Akteure darauf vorzubereiten. Freut Euch auf spannende Best Practices.
LOCATION:online
URL:
END:VEVENT
END:VCALENDAR
