BEGIN:VCALENDAR
VERSION:2.0
METHOD:PUBLISH
X-WR-CALNAME;VALUE=TEXT:
PRODID:-//Drupal iCal API//EN
BEGIN:VEVENT
UID:wfbb-event-1667
DTSTAMP:20240913T114147Z
DTSTART:20201125T150000Z
DTEND:20201125T160000Z
SUMMARY:Post-Privacy Shield: Wo stehen wir vier Monate nach Schrems II?
DESCRIPTION:Der Europäische Gerichtshof (EuGH) erklärte mit dem „Privacy Shield“ die hauptsächlich genutzte Grundlage für Datentransfers zwischen der EU und den USA für unwirksam. In diesem Webseminar werden die Auswirkungen dieses Urteils erläutert.
LOCATION:online
URL:https://global.gotomeeting.com/join/172708285
END:VEVENT
END:VCALENDAR
