BEGIN:VCALENDAR
VERSION:2.0
METHOD:PUBLISH
X-WR-CALNAME;VALUE=TEXT:
PRODID:-//Drupal iCal API//EN
BEGIN:VEVENT
UID:wfbb-event-1686
DTSTAMP:20240913T114147Z
DTSTART:20201215T130000Z
DTEND:20201215T143000Z
SUMMARY:Verbundwerkstoffe und weitere Innovationspfade im Bahnsektor
DESCRIPTION:In dem letzten ERCI Online Workshop in 2020 laden wir ein, vielversprechende Innovationspfade für den Eisenbahnsektor zu identifizieren.
LOCATION:online
URL:mailto:info@rail-s.de
END:VEVENT
END:VCALENDAR
