BEGIN:VCALENDAR
VERSION:2.0
METHOD:PUBLISH
X-WR-CALNAME;VALUE=TEXT:
PRODID:-//Drupal iCal API//EN
BEGIN:VEVENT
UID:wfbb-event-1717
DTSTAMP:20240913T114147Z
DTSTART:20201215T150000Z
DTEND:20201215T160000Z
SUMMARY:Datenexport – zusätzliche Garantien: Verschlüsselung
DESCRIPTION:Das Webinar bietet einen guten Überblick über Schutzmaßnahmen wie Prävention, Bewahren der Datenhoheit, Verschlüsselung und Protokollierung.
LOCATION:online
URL:https://global.gotomeeting.com/install/890828829
END:VEVENT
END:VCALENDAR
