BEGIN:VCALENDAR
VERSION:2.0
METHOD:PUBLISH
X-WR-CALNAME;VALUE=TEXT:
PRODID:-//Drupal iCal API//EN
BEGIN:VEVENT
UID:wfbb-event-1719
DTSTAMP:20241118T145934Z
DTSTART:20210113T130000Z
DTEND:20210113T143000Z
SUMMARY:Strukturstärkungsgesetz - Wie können auch Lausitzer Unternehmen profitieren?
DESCRIPTION:Die Landesregierung Brandenburg hat die Richtlinie zur Förderung von Projekten und Vorhaben im Rahmen des Strukturwandels Lausitz veröffentlicht. Ein Online-Seminar soll zeigen, wie auch Lausitzer Unternehmen profitieren können.
LOCATION:online
URL:https://www.cottbus.ihk.de/alle-veranstaltungen/10699/landesrichtlinie-zum-strukturstaerkungsgesetz-veroeffentlicht-wie-koennen-auch-unternehmen-von-den-strukturwandelmitteln-profitieren.html
END:VEVENT
END:VCALENDAR
