BEGIN:VCALENDAR
VERSION:2.0
METHOD:PUBLISH
X-WR-CALNAME;VALUE=TEXT:
PRODID:-//Drupal iCal API//EN
BEGIN:VEVENT
UID:wfbb-event-1749
DTSTAMP:20240913T114147Z
DTSTART:20210118T150000Z
DTEND:20210118T160000Z
SUMMARY:Datenexport – zusätzliche Garantien: Technische Schutzmaßnahmen
DESCRIPTION:Der Verein it's.BB lädt zum dritten Teil seiner Awareness-Reihe zum Datentransfer in Drittstaaten außerhalb der EU ein.
LOCATION:online
URL:https://global.gotomeeting.com/join/807801669
END:VEVENT
END:VCALENDAR
