BEGIN:VCALENDAR
VERSION:2.0
METHOD:PUBLISH
X-WR-CALNAME;VALUE=TEXT:
PRODID:-//Drupal iCal API//EN
BEGIN:VEVENT
UID:wfbb-event-1778
DTSTAMP:20240913T114147Z
DTSTART:20210219T080000Z
DTEND:20210219T093000Z
SUMMARY:transition2agile | Agile Transformation in Unternehmen
DESCRIPTION:Die Experten des Mittelstand 4.0-Kompetenzzentrum Usability möchten mit diesem Online-Seminar eine Orientierungshilfe auf dem Weg zu mehr Agilität geben. 
LOCATION:online
URL:
END:VEVENT
END:VCALENDAR
