BEGIN:VCALENDAR
VERSION:2.0
METHOD:PUBLISH
X-WR-CALNAME;VALUE=TEXT:
PRODID:-//Drupal iCal API//EN
BEGIN:VEVENT
UID:wfbb-event-1891
DTSTAMP:20240913T114147Z
DTSTART:20210216T123000Z
DTEND:20210216T150000Z
SUMMARY:EEN presents | Förderung von Technologietransfer-Projekten mit Robotiklösungen
DESCRIPTION:Erfahren Sie alles über aktuelle Fördermöglichkeiten für Technologietransferprojekte mit Robotiklösungen. Lernen Sie die EU-geförderten Projekte Trinity, RIMA und DIH² und deren Förderaufrufe kennen.
LOCATION:online
URL:https://een-bb.de/termine/detail/online-een-presents-funding-opportunities-for-robotic-solutions/87358f50d7eaea4b6bb7f0554c4f75f1.html
END:VEVENT
END:VCALENDAR
