BEGIN:VCALENDAR
VERSION:2.0
METHOD:PUBLISH
X-WR-CALNAME;VALUE=TEXT:
PRODID:-//Drupal iCal API//EN
BEGIN:VEVENT
UID:wfbb-event-1923
DTSTAMP:20240913T114147Z
DTSTART:20210217T150000Z
DTEND:20210217T160000Z
SUMMARY:Scalable Security
DESCRIPTION:Die Informationssicherheit für alle Arten von Organisationen wird immer wichtiger. Für viele Akteure stellt sich die Frage: Wo fange ich an? Was sind die ersten drei Schritte? 
LOCATION:online
URL:https://global.gotomeeting.com/join/961502549
END:VEVENT
END:VCALENDAR
