BEGIN:VCALENDAR
VERSION:2.0
METHOD:PUBLISH
X-WR-CALNAME;VALUE=TEXT:
PRODID:-//Drupal iCal API//EN
BEGIN:VEVENT
UID:wfbb-event-1970
DTSTAMP:20240913T114147Z
DTSTART:20210310T150000Z
DTEND:20210310T161500Z
SUMMARY:COVID19 - Intelligente Systeme bei Raumüberwachung und Zugangskontrolle
DESCRIPTION:Wissen Sie wer gestern bei Ihnen im Haus war? Kennen Sie den CO2-Gehalt im Raum und damit die Virenlast in der Luft?
LOCATION:online
URL:https://www.eventbrite.de/e/covid19-intelligente-systeme-bei-raumuberwachung-und-zugangskontrolle-tickets-141656166407
END:VEVENT
END:VCALENDAR
