BEGIN:VCALENDAR
VERSION:2.0
METHOD:PUBLISH
X-WR-CALNAME;VALUE=TEXT:
PRODID:-//Drupal iCal API//EN
BEGIN:VEVENT
UID:wfbb-event-1983
DTSTAMP:20240913T114147Z
DTSTART:20210315T160000Z
DTEND:20210315T170000Z
SUMMARY:media:net | Fireside Chat
DESCRIPTION:Diesmal geht es beim Fireside Chat um das Thema Audio?! Der Trend zum transmedialen Erzählen für die Ohren.
LOCATION:
URL:
END:VEVENT
END:VCALENDAR
