BEGIN:VCALENDAR
VERSION:2.0
METHOD:PUBLISH
X-WR-CALNAME;VALUE=TEXT:
PRODID:-//Drupal iCal API//EN
BEGIN:VEVENT
UID:wfbb-event-1987
DTSTAMP:20240913T114147Z
DTSTART:20210325T080000Z
DTEND:20210325T120000Z
SUMMARY:IT-Dienstleister als Akteure zur Stärkung der IT Sicherheit bei KMU
DESCRIPTION:In diesem Web-Seminar wird das Studienteam, bestehend aus der NKMG mbH und dem Brandenburgischen Institut für Gesellschaft und Sicherheit (BIGS), die Ergebnisse der vom Bundesministerium für Wirtschaft und Energie beauftragten Studie vorstellen.
LOCATION:
URL:
END:VEVENT
END:VCALENDAR
