BEGIN:VCALENDAR
VERSION:2.0
METHOD:PUBLISH
X-WR-CALNAME;VALUE=TEXT:
PRODID:-//Drupal iCal API//EN
BEGIN:VEVENT
UID:wfbb-event-1990
DTSTAMP:20240913T114147Z
DTSTART:20210325T130000Z
DTEND:20210325T140000Z
SUMMARY:IoT+ Coffee Break Mobility
DESCRIPTION:Thema: IoT+ Mobility: Welchen Einfluss hat IoT+ auf die Fortbewegung in Städten und auf dem Land?
LOCATION:online
URL:https://www.eventbrite.de/e/iot-coffee-break-mobility-enuu-vimcar-bosch-mobility-transformation-tickets-129645111017
END:VEVENT
END:VCALENDAR
