BEGIN:VCALENDAR
VERSION:2.0
METHOD:PUBLISH
X-WR-CALNAME;VALUE=TEXT:
PRODID:-//Drupal iCal API//EN
BEGIN:VEVENT
UID:wfbb-event-2021
DTSTAMP:20240913T114147Z
DTSTART:20210414T073000Z
DTEND:20210414T093000Z
SUMMARY:Innovative Batteriesysteme an der Schnittstelle Stromnetz und Mobilität
DESCRIPTION:Online Cross-Cluster-Expertenkreis der Cluster Energietechnik und Verkehr, Mobilität und Logistik Berlin-Brandenburg
LOCATION:
URL:
END:VEVENT
END:VCALENDAR
