BEGIN:VCALENDAR
VERSION:2.0
METHOD:PUBLISH
X-WR-CALNAME;VALUE=TEXT:
PRODID:-//Drupal iCal API//EN
BEGIN:VEVENT
UID:wfbb-event-2036
DTSTAMP:20241118T145935Z
DTSTART:20210428T090000Z
DTEND:20210428T104500Z
SUMMARY:Die resiliente Stadt: Sicherheit in Quartiersnetzwerken
DESCRIPTION:Die gemeinsame Veranstaltung vom Cluster Energietechnik und der Technologiestiftung Berlin wird im Rahmen der Berliner Energietage 2021 organisiert und beschäftigt sich mit der digitalen Sicherheit von Datenströmen in Quartiersnetzwerken.
LOCATION:online
URL:https://www.energietage.de/event/203-die-resiliente-stadt.html
END:VEVENT
END:VCALENDAR
