BEGIN:VCALENDAR
VERSION:2.0
METHOD:PUBLISH
X-WR-CALNAME;VALUE=TEXT:
PRODID:-//Drupal iCal API//EN
BEGIN:VEVENT
UID:wfbb-event-2081
DTSTAMP:20260115T085347Z
DTSTART:20210528T080000Z
DTEND:20210530T150000Z
SUMMARY:Hackathon „Hello2AI“
DESCRIPTION:Unter dem Titel „Hello2AI“ findet ab dem 28. Mai 2021 ein dreitägiges Hybrid-Treffen zu künstlicher Intelligenz statt. Die kostenlose Veranstaltung richtet sich an Laien sowie Profis aus ganz Deutschland.
LOCATION:
URL:https://www.hello2ai.de/anmeldung
END:VEVENT
END:VCALENDAR
