BEGIN:VCALENDAR
VERSION:2.0
METHOD:PUBLISH
X-WR-CALNAME;VALUE=TEXT:
PRODID:-//Drupal iCal API//EN
BEGIN:VEVENT
UID:wfbb-event-2118
DTSTAMP:20241118T145936Z
DTSTART:20210517T080000Z
DTEND:20210517T100000Z
SUMMARY:J-Bridge Platform Europe Launch Event
DESCRIPTION:Im Rahmen digitaler Veranstaltungen können sich Vertreter der japanischen Industrie und führender europäischer Unternehmen aus dem Bereich der erneuerbaren Energien über die Perspektiven der zukünftigen Geschäftsmöglichkeiten in Japan austauschen.
LOCATION:online
URL:https://www.jetro.go.jp/form5/pub/jaa/jb_europe_launch_en
END:VEVENT
END:VCALENDAR
