BEGIN:VCALENDAR
VERSION:2.0
METHOD:PUBLISH
X-WR-CALNAME;VALUE=TEXT:
PRODID:-//Drupal iCal API//EN
BEGIN:VEVENT
UID:wfbb-event-2154
DTSTAMP:20260115T085349Z
DTSTART:20210608T080000Z
DTEND:20210608T093000Z
SUMMARY:Fertigung der Zukunft – Der Digitale Zwilling
DESCRIPTION:Was ist ein digitaler Zwilling, was kann damit heute schon erreicht werden und wohin geht die Reise? Welche Potenziale und Vorteile bringt der digitale Zwilling für die Produktion? Wie können Sie Ihre Projektideen umsetzen.
LOCATION:online
URL:https://www.eventbrite.de/checkout-external?eid=154830274519
END:VEVENT
END:VCALENDAR
