BEGIN:VCALENDAR
VERSION:2.0
METHOD:PUBLISH
X-WR-CALNAME;VALUE=TEXT:
PRODID:-//Drupal iCal API//EN
BEGIN:VEVENT
UID:wfbb-event-2204
DTSTAMP:20260115T085349Z
DTSTART:20210622T120000Z
DTEND:20210622T143000Z
SUMMARY:Antragswerkstatt zur deutsch-französischen Zusammenarbeit bei 5G-Netzen
DESCRIPTION:Antragswerkstatt zum 21.06.2021 stattfindenden Matchmaking-Event zur deutsch-französischen Zusammenarbeit im Bereich der 5G-Netze.
LOCATION:online
URL:
END:VEVENT
END:VCALENDAR
