BEGIN:VCALENDAR
VERSION:2.0
METHOD:PUBLISH
X-WR-CALNAME;VALUE=TEXT:
PRODID:-//Drupal iCal API//EN
BEGIN:VEVENT
UID:wfbb-event-2205
DTSTAMP:20260115T085349Z
DTSTART:20210621T130000Z
DTEND:20210621T143000Z
SUMMARY:Matchmaking zur deutsch-französischen Zusammenarbeit bei 5G-Netzen
DESCRIPTION:Matchmaking-Event zum Förderaufruf zur deutsch-französischen Zusammenarbeit im Bereich der 5G-Netze.
LOCATION:online
URL:mailto:Int-Kooperationsprojekte-PT@dlr.de?subject=Anmeldung%20%7C%20Matchmaking%20am%2021.06.2021
END:VEVENT
END:VCALENDAR
