BEGIN:VCALENDAR
VERSION:2.0
METHOD:PUBLISH
X-WR-CALNAME;VALUE=TEXT:
PRODID:-//Drupal iCal API//EN
BEGIN:VEVENT
UID:wfbb-event-2249
DTSTAMP:20241118T145936Z
DTSTART:20210824T070000Z
DTEND:20210824T100000Z
SUMMARY:Grüne Wärme für Brandenburg - Perspektiven für die kommunale Wärmewende
DESCRIPTION:Um die selbst gesteckten Klimaziele zu erreichen, ist eine rasche Dekarbonisierung des Wärmesektors von größter Bedeutung. Diese digitale Fachveranstaltung widmet sich diesem Thema und zeigt u.a. den Status Quo und technologische Optionen auf.
LOCATION:online
URL:
END:VEVENT
END:VCALENDAR
