BEGIN:VCALENDAR
VERSION:2.0
METHOD:PUBLISH
X-WR-CALNAME;VALUE=TEXT:
PRODID:-//Drupal iCal API//EN
BEGIN:VEVENT
UID:wfbb-event-2311
DTSTAMP:20260115T085350Z
DTSTART:20210924T130000Z
DTEND:20210924T160000Z
SUMMARY:Join Babelsberg – der virtuelle Standorttag für Jobs rund um die Medienbranche
DESCRIPTION:#irgendwasmitmedien? Am 24.09.2021, 15-18 Uhr, stellen sich Unternehmen des Standort Babelsberg vor. Die Chance für alle Interessierte, von Schulabgänger*innen bis zu Quereinsteiger*innen.
LOCATION:online
URL:https://www.epi.media/joinbabelsberg/
END:VEVENT
END:VCALENDAR
