BEGIN:VCALENDAR
VERSION:2.0
METHOD:PUBLISH
X-WR-CALNAME;VALUE=TEXT:
PRODID:-//Drupal iCal API//EN
BEGIN:VEVENT
UID:wfbb-event-2411
DTSTAMP:20240913T114147Z
DTSTART:20211129T140000Z
DTEND:20211129T160000Z
SUMMARY:Berlin-Brandenburger Optik-Tag 2021 (digital!)
DESCRIPTION:Leitthema in diesem Jahr ist der "Einsatz von Sensorik und Mikroelektronik in der Wasserstoffwirtschaft". Partner ist der Innovationscampus Elektronik und Mikrosensorik.
LOCATION:online
URL:https://www.optik-bb.de/veranstaltungen/termin/berlin-brandenburger-optik-tag-2021/
END:VEVENT
END:VCALENDAR
