BEGIN:VCALENDAR
VERSION:2.0
METHOD:PUBLISH
X-WR-CALNAME;VALUE=TEXT:
PRODID:-//Drupal iCal API//EN
BEGIN:VEVENT
UID:wfbb-event-2505
DTSTAMP:20260115T085351Z
DTSTART:20211130T083000Z
DTEND:20211130T093000Z
SUMMARY:Wasserstoff- und Brennstoffzellentechnologie: Fokus Inselnetze
DESCRIPTION:Die NOW GmbH lädt im Rahmen der Exportinitiative Umwelttechnologien (EXI) zum Online-Seminar „Wasserstoff- und Brennstoffzellentechnologie: Fokus Inselnetze“ ein.
LOCATION:online
URL:https://now-gmbh.webex.com/now-gmbh-de/onstage/g.php?MTID=ef208a49c0ef14ff540c752e01b03be4d
END:VEVENT
END:VCALENDAR
