BEGIN:VCALENDAR
VERSION:2.0
METHOD:PUBLISH
X-WR-CALNAME;VALUE=TEXT:
PRODID:-//Drupal iCal API//EN
BEGIN:VEVENT
UID:wfbb-event-2615
DTSTAMP:20240913T114340Z
DTSTART:20220315T083000Z
DTEND:20220315T110000Z
SUMMARY:Datengestützte Innovationen für zukunftsorientierte Personenmobilität
DESCRIPTION:Die Veranstaltung bildet den Abschluss des mFUND-Projektes SensoDIMARiS - Sensorik, Echtzeitzustandsüberwachung und AR in Straßenbahnen für frühzeitige Mängeldiagnose und vorbeugende Instandhaltung: Ergebnisse und Perspektiven werden vorgestellt.
LOCATION:online
URL:
END:VEVENT
END:VCALENDAR
