BEGIN:VCALENDAR
VERSION:2.0
METHOD:PUBLISH
X-WR-CALNAME;VALUE=TEXT:
PRODID:-//Drupal iCal API//EN
BEGIN:VEVENT
UID:wfbb-event-2621
DTSTAMP:20241118T145920Z
DTSTART:20220302T140000Z
DTEND:20220302T144500Z
SUMMARY:KI-Café Bahnsektor
DESCRIPTION:Chancen für den Bahnsektor – Beispiel Künstliche Intelligenz
LOCATION:online
URL:https://www.zukunftszentrum-brandenburg.de/veranstaltung/ki-cafe-bahnsektor/
END:VEVENT
END:VCALENDAR
