BEGIN:VCALENDAR
VERSION:2.0
METHOD:PUBLISH
X-WR-CALNAME;VALUE=TEXT:
PRODID:-//Drupal iCal API//EN
BEGIN:VEVENT
UID:wfbb-event-2694
DTSTAMP:20241118T145939Z
DTSTART:20220324T150000Z
DTEND:20220324T163000Z
SUMMARY:11. MinGenTec Netzwerktreffen - 5 Jahre MinGenTec
DESCRIPTION:In diesen Tagen jährt sich die Gründung der Initiative MinGenTec zum fünften Mal. Beim Treffen wird gemeinsam Bilanz zum fünfjährigen Bestehen der Initiative gezogen und über zukünftige Pläne gesprochen werden.
LOCATION:online
URL:https://www.mingentec.com/de/Home/Events-und-Termine/event/83
END:VEVENT
END:VCALENDAR
