BEGIN:VCALENDAR
VERSION:2.0
METHOD:PUBLISH
X-WR-CALNAME;VALUE=TEXT:
PRODID:-//Drupal iCal API//EN
BEGIN:VEVENT
UID:wfbb-event-2714
DTSTAMP:20241118T145939Z
DTSTART:20220330T130000Z
DTEND:20220330T150000Z
SUMMARY:Auftakt des regionalen Wasserstoff-Netzwerks Oberhavel
DESCRIPTION:Akteure der Region Oberhavel möchten den Nordwesten Brandenburgs zu einer Wasserstoff-Region weiterentwickeln und gestalten. Über dieses Netzwerk, die Ziele, mögliche Vorhaben und Beteiligungsmöglichkeiten können Sie sich hier informieren.
LOCATION:online
URL:https://veranstaltung.ihk-potsdam.de/wasserstoff
END:VEVENT
END:VCALENDAR
